BEGIN:VCALENDAR
VERSION:2.0
PRODID:-//arrupejesuit.com//NONSGML kigkonsult.se iCalcreator 2.30.10//
CALSCALE:GREGORIAN
METHOD:PUBLISH
UID:63daa3ba-537f-4824-9b0f-039bb7692044
X-WR-CALDESC:
X-WR-RELCALID:0fceb855316075ea52352e641309d38a
X-WR-TIMEZONE:America/Denver
BEGIN:VTIMEZONE
TZID:America/Denver
BEGIN:STANDARD
TZNAME:MST
DTSTART:20251102T020000
TZOFFSETFROM:-0600
TZOFFSETTO:-0700
RDATE:20261101T020000
RDATE:20271107T020000
END:STANDARD
BEGIN:DAYLIGHT
TZNAME:MDT
DTSTART:20260308T020000
TZOFFSETFROM:-0700
TZOFFSETTO:-0600
RDATE:20270314T020000
END:DAYLIGHT
END:VTIMEZONE
BEGIN:VEVENT
UID:2dce9c6f-8c58-4cc5-be2b-aac83dd195c2
DTSTAMP:20260424T173023Z
DESCRIPTION:
DTSTART;TZID=America/Denver:20260618T040000
DTEND;TZID=America/Denver:20260618T040001
LOCATION:4343 Utica Street\, Denver\, CO 80212 US
SUMMARY:Quick Conversations (6/18/26)
END:VEVENT
END:VCALENDAR
