BEGIN:VCALENDAR
VERSION:2.0
PRODID:-//arrupejesuit.com//NONSGML kigkonsult.se iCalcreator 2.30.10//
CALSCALE:GREGORIAN
METHOD:PUBLISH
UID:ec73ef0c-6c1f-4f04-bc40-2e242828d0cc
X-WR-CALDESC:
X-WR-RELCALID:dc4ae56aa2394c03a4fd1f2543e2164c
X-WR-TIMEZONE:America/Denver
BEGIN:VTIMEZONE
TZID:America/Denver
BEGIN:STANDARD
TZNAME:MST
DTSTART:20251102T020000
TZOFFSETFROM:-0600
TZOFFSETTO:-0700
RDATE:20261101T020000
RDATE:20271107T020000
END:STANDARD
BEGIN:DAYLIGHT
TZNAME:MDT
DTSTART:20260308T020000
TZOFFSETFROM:-0700
TZOFFSETTO:-0600
RDATE:20270314T020000
END:DAYLIGHT
END:VTIMEZONE
BEGIN:VEVENT
UID:bb1a693f-2ec7-4149-8053-2f68684c930d
DTSTAMP:20260424T173026Z
DESCRIPTION:
DTSTART;TZID=America/Denver:20260617T040000
DTEND;TZID=America/Denver:20260617T040001
LOCATION:
SUMMARY:Summer Phone Training (6/17/26)
END:VEVENT
END:VCALENDAR
