BEGIN:VCALENDAR
VERSION:2.0
PRODID:-//arrupejesuit.com//NONSGML kigkonsult.se iCalcreator 2.30.10//
CALSCALE:GREGORIAN
METHOD:PUBLISH
UID:e1c7e955-bd56-4f99-954c-12aff43adc36
X-WR-CALDESC:
X-WR-RELCALID:686ac7e2f087d432025c6d150b69bc16
X-WR-TIMEZONE:America/Denver
BEGIN:VTIMEZONE
TZID:America/Denver
BEGIN:STANDARD
TZNAME:MST
DTSTART:20201101T020000
TZOFFSETFROM:-0600
TZOFFSETTO:-0700
RDATE:20211107T020000
RDATE:20221106T020000
END:STANDARD
BEGIN:DAYLIGHT
TZNAME:MDT
DTSTART:20210314T020000
TZOFFSETFROM:-0700
TZOFFSETTO:-0600
RDATE:20220313T020000
END:DAYLIGHT
END:VTIMEZONE
BEGIN:VEVENT
UID:57674768-971d-482d-9977-43aa550bc6d5
DTSTAMP:20260426T014715Z
DESCRIPTION:
DTSTART;TZID=America/Denver:20210706T000000
DTEND;TZID=America/Denver:20210706T235900
LOCATION:
SUMMARY:Growth Mindset
END:VEVENT
END:VCALENDAR
